BEGIN:VCALENDAR
VERSION:2.0
PRODID:-//ChamberMaster//Event Calendar 2.0//EN
METHOD:PUBLISH
X-PUBLISHED-TTL:P1H
REFRESH-INTERVAL:P1H
CALSCALE:GREGORIAN
BEGIN:VTIMEZONE
TZID:America/New_York
BEGIN:DAYLIGHT
RRULE:FREQ=YEARLY;BYMONTH=3;BYDAY=2SU
DTSTART:20070101T000000
TZOFFSETFROM:-0500
TZOFFSETTO:-0400
TZNAME:Eastern Daylight Time
END:DAYLIGHT
BEGIN:STANDARD
RRULE:FREQ=YEARLY;BYMONTH=11;BYDAY=1SU
DTSTART:20070101T000000
TZOFFSETFROM:-0400
TZOFFSETTO:-0500
TZNAME:Eastern Standard Time
END:STANDARD
END:VTIMEZONE
BEGIN:VEVENT
DTSTART;VALUE=DATE:20260504
DTEND;VALUE=DATE:20260505
TRANSP:TRANSPARENT
X-MICROSOFT-CDO-ALLDAYEVENT:TRUE
SUMMARY:2026 JFilm Festival at The Lindsay
DESCRIPTION:The Lindsay Theater has partnered with Film Pittsburgh to serve as a 2026 JFilm Festival venue. For 33 years\, JFilm has showcased Jewish-themed\, independent films from around the globe. Seven features and eight shorts will play at The Lindsay between Monday\, May 4\, and Saturday\, May 9. A few screenings will be followed by a "Film Schmooze\," aka a casual post-film discussion sponsored by the University of Pittsburgh's Jewish Studies Program. Tickets are now on sale for all individual JFilm screenings\, as well as all-access passes. You can purchase tickets online via Film Pittsburgh's website\, and at The Lindsay on the day of each screening. Individual screenings: $15All-Access Pass (Virtual): $80 All-Access (Virtual & In-Person): $180Tickets and all-access passes are available via https://jfilm26.eventive.org/welcomeTickets to individual Lindsay showings can also be purchased at the Theater on the day of each screening.Please contact Film Pittsburgh for all ticketing-related questions. Film Pittsburgh: 412-426-FILM (3456) info@filmpittsburgh.org
X-ALT-DESC;FMTTYPE=text/html:<!DOCTYPE html><html><head><title></title></head><body aria-disabled="false"><p><meta charset="utf-8"><span style='color: rgb(0\, 0\, 0)\; font-family: "Hanken Grotesk"\, sans-serif\; font-size: 18px\; font-style: normal\; font-variant-ligatures: normal\; font-variant-caps: normal\; font-weight: 400\; letter-spacing: normal\; orphans: 2\; text-align: start\; text-indent: 0px\; text-transform: none\; widows: 2\; word-spacing: 0px\; -webkit-text-stroke-width: 0px\; white-space: normal\; background-color: rgb(255\, 255\, 255)\; text-decoration-thickness: initial\; text-decoration-style: initial\; text-decoration-color: initial\; float: none\; display: inline !important\;'>The Lindsay Theater has partnered with Film Pittsburgh to serve as a&nbsp\;</span><span style="font-size: 18px\;"><span style="color: rgb(41\, 105\, 176)\;"><u><a fr-original-style="" href="https://thelindsaytheater.org/event/2026-jfilm-festival-at-the-lindsay/" style="user-select: auto\; color: inherit\;"><span style='font-family: "Hanken Grotesk"\, sans-serif\; font-style: normal\; font-variant-ligatures: normal\; font-variant-caps: normal\; font-weight: 400\; letter-spacing: normal\; orphans: 2\; text-align: start\; text-indent: 0px\; text-transform: none\; widows: 2\; word-spacing: 0px\; -webkit-text-stroke-width: 0px\; white-space: normal\; background-color: rgb(255\, 255\, 255)\; text-decoration-thickness: initial\; text-decoration-style: initial\; text-decoration-color: initial\; float: none\; display: inline !important\;'>2026 JFilm Festival venue</span></a></u></span><span style='color: rgb(0\, 0\, 0)\; font-family: "Hanken Grotesk"\, sans-serif\; font-style: normal\; font-variant-ligatures: normal\; font-variant-caps: normal\; font-weight: 400\; letter-spacing: normal\; orphans: 2\; text-align: start\; text-indent: 0px\; text-transform: none\; widows: 2\; word-spacing: 0px\; -webkit-text-stroke-width: 0px\; white-space: normal\; background-color: rgb(255\, 255\, 255)\; text-decoration-thickness: initial\; text-decoration-style: initial\; text-decoration-color: initial\; float: none\; display: inline !important\;'>. For 33 years\,&nbsp\;</span><span style="color: rgb(41\, 105\, 176)\;"><a fr-original-style="" href="https://jfilm26.eventive.org/schedule" style="user-select: auto\; color: inherit\;"><span style='font-family: "Hanken Grotesk"\, sans-serif\; font-style: normal\; font-variant-ligatures: normal\; font-variant-caps: normal\; font-weight: 400\; letter-spacing: normal\; orphans: 2\; text-align: start\; text-indent: 0px\; text-transform: none\; widows: 2\; word-spacing: 0px\; -webkit-text-stroke-width: 0px\; white-space: normal\; background-color: rgb(255\, 255\, 255)\; text-decoration-thickness: initial\; text-decoration-style: initial\; text-decoration-color: initial\; float: none\; display: inline !important\;'><u>JFilm</u></span></a></span><span style='color: rgb(0\, 0\, 0)\; font-family: "Hanken Grotesk"\, sans-serif\; font-style: normal\; font-variant-ligatures: normal\; font-variant-caps: normal\; font-weight: 400\; letter-spacing: normal\; orphans: 2\; text-align: start\; text-indent: 0px\; text-transform: none\; widows: 2\; word-spacing: 0px\; -webkit-text-stroke-width: 0px\; white-space: normal\; background-color: rgb(255\, 255\, 255)\; text-decoration-thickness: initial\; text-decoration-style: initial\; text-decoration-color: initial\; float: none\; display: inline !important\;'>&nbsp\;has showcased Jewish-themed\, independent films from around the globe. <meta charset="utf-8"><span style='color: rgb(0\, 0\, 0)\; font-family: "Hanken Grotesk"\, sans-serif\; font-style: normal\; font-variant-ligatures: normal\; font-variant-caps: normal\; font-weight: 400\; letter-spacing: normal\; orphans: 2\; text-align: start\; text-indent: 0px\; text-transform: none\; widows: 2\; word-spacing: 0px\; -webkit-text-stroke-width: 0px\; white-space: normal\; background-color: rgb(255\, 255\, 255)\; text-decoration-thickness: initial\; text-decoration-style: initial\; text-decoration-color: initial\; float: none\; display: inline !important\;'>Seven features and eight shorts will play at The Lindsay between Monday\, May 4\, and Saturday\, May 9.&nbsp\;</span></span><span style="color: rgb(0\, 0\, 0)\;">A few screenings will be followed by a &ldquo\;Film Schmooze\,&rdquo\; aka a casual post-film discussion sponsored by the University of Pittsburgh&rsquo\;s Jewish Studies Program. <meta charset="utf-8"></span><span style='color: rgb(0\, 0\, 0)\; font-family: "Hanken Grotesk"\, sans-serif\; font-style: normal\; font-variant-ligatures: normal\; font-variant-caps: normal\; font-weight: 400\; letter-spacing: normal\; orphans: 2\; text-align: start\; text-indent: 0px\; text-transform: none\; widows: 2\; word-spacing: 0px\; -webkit-text-stroke-width: 0px\; white-space: normal\; background-color: rgb(255\, 255\, 255)\; text-decoration-thickness: initial\; text-decoration-style: initial\; text-decoration-color: initial\; float: none\; display: inline !important\;'>Tickets are now on sale for all&nbsp\;</span></span><span style="color: rgb(41\, 105\, 176)\;"><a fr-original-style="" href="https://jfilm26.eventive.org/films" style="user-select: auto\; color: inherit\;"><span style="font-size: 18px\;"><span style='font-family: "Hanken Grotesk"\, sans-serif\; font-style: normal\; font-variant-ligatures: normal\; font-variant-caps: normal\; font-weight: 400\; letter-spacing: normal\; orphans: 2\; text-align: start\; text-indent: 0px\; text-transform: none\; widows: 2\; word-spacing: 0px\; -webkit-text-stroke-width: 0px\; white-space: normal\; background-color: rgb(255\, 255\, 255)\; text-decoration-thickness: initial\; text-decoration-style: initial\; text-decoration-color: initial\; float: none\; display: inline !important\;'><u>individual JFilm screenings</u></span></span></a></span><span style="font-size: 18px\;"><span style='color: rgb(0\, 0\, 0)\; font-family: "Hanken Grotesk"\, sans-serif\; font-style: normal\; font-variant-ligatures: normal\; font-variant-caps: normal\; font-weight: 400\; letter-spacing: normal\; orphans: 2\; text-align: start\; text-indent: 0px\; text-transform: none\; widows: 2\; word-spacing: 0px\; -webkit-text-stroke-width: 0px\; white-space: normal\; background-color: rgb(255\, 255\, 255)\; text-decoration-thickness: initial\; text-decoration-style: initial\; text-decoration-color: initial\; float: none\; display: inline !important\;'>\, as well as&nbsp\;</span></span><span style="color: rgb(41\, 105\, 176)\;"><u><a fr-original-style="" href="https://jfilm26.eventive.org/welcome" style="user-select: auto\; color: inherit\;"><span style="font-size: 18px\;"><span style='font-family: "Hanken Grotesk"\, sans-serif\; font-style: normal\; font-variant-ligatures: normal\; font-variant-caps: normal\; font-weight: 400\; letter-spacing: normal\; orphans: 2\; text-align: start\; text-indent: 0px\; text-transform: none\; widows: 2\; word-spacing: 0px\; -webkit-text-stroke-width: 0px\; white-space: normal\; background-color: rgb(255\, 255\, 255)\; text-decoration-thickness: initial\; text-decoration-style: initial\; text-decoration-color: initial\; float: none\; display: inline !important\;'>all-access passes</span></span></a></u></span><span style="font-size: 18px\;"><span style='color: rgb(0\, 0\, 0)\; font-family: "Hanken Grotesk"\, sans-serif\; font-style: normal\; font-variant-ligatures: normal\; font-variant-caps: normal\; font-weight: 400\; letter-spacing: normal\; orphans: 2\; text-align: start\; text-indent: 0px\; text-transform: none\; widows: 2\; word-spacing: 0px\; -webkit-text-stroke-width: 0px\; white-space: normal\; background-color: rgb(255\, 255\, 255)\; text-decoration-thickness: initial\; text-decoration-style: initial\; text-decoration-color: initial\; float: none\; display: inline !important\;'>. You can purchase tickets online via Film Pittsburgh&rsquo\;s website\, and at The Lindsay on the day of each screening.&nbsp\;</span></span></p><ul fr-original-style="" style="list-style-position: inside\;"><li style="color: rgb(0\, 0\, 0)\;"><span style="font-size: 18px\;">Individual screenings: $15</span></li><li style="color: rgb(0\, 0\, 0)\;"><span style="font-size: 18px\;">All-Access Pass (Virtual): $80&nbsp\;</span></li><li style="color: rgb(0\, 0\, 0)\;"><span style="font-size: 18px\;">All-Access (Virtual &amp\; In-Person): $180</span></li><li><span style="font-size: 18px\;"><span style="color: rgb(0\, 0\, 0)\;">Tickets and all-access passes are available via</span> <a data-fr-linked="true" fr-original-style="" href="https://jfilm26.eventive.org/welcome\;" style="user-select: auto\;">https://jfilm26.eventive.org/welcome</a></span></li><li style="color: rgb(0\, 0\, 0)\;"><span style="font-size: 18px\;">Tickets to individual Lindsay showings can also be purchased at the Theater on the day of each screening.</span></li></ul><p><span style="font-size: 18px\;"><span style="font-size: 18px\; color: rgb(0\, 0\, 0)\;">Please contact Film Pittsburgh for all ticketing-related questions.&nbsp\;</span><span style="color: rgb(0\, 0\, 0)\;">Film Pittsburgh: 412-426-FILM (3456)</span>&nbsp\;</span><span style="color: rgb(41\, 105\, 176)\;"><a fr-original-style="" href="mailto:info@filmpittsburgh.org" style="user-select: auto\; color: inherit\;"><span style="font-size: 18px\;">info@filmpittsburgh.org</span></a></span><span style="font-size: 18px\;"><br></span></p></body></html>
LOCATION:418 Walnut Street Sewickley PA 15143
UID:e.4261.1447354
SEQUENCE:3
DTSTAMP:20260422T120213Z
URL:https://business.sewickleyvalleychamber.org/chamber-calendar/Details/2026-jfilm-festival-at-the-lindsay-1714292?sourceTypeId=Hub
END:VEVENT
END:VCALENDAR
